BEGIN:VCALENDAR
VERSION:2.0
PRODID:-//KC Zahrada - ECPv4.7.3//NONSGML v1.0//EN
CALSCALE:GREGORIAN
METHOD:PUBLISH
X-WR-CALNAME:KC Zahrada
X-ORIGINAL-URL:https://kczahrada.cz
X-WR-CALDESC:Events for KC Zahrada
BEGIN:VEVENT
DTSTART;TZID=Europe/Prague:20231113T190000
DTEND;TZID=Europe/Prague:20231113T210000
DTSTAMP:20260420T043431
CREATED:20231010T112216Z
LAST-MODIFIED:20231017T114141Z
UID:11488-1699902000-1699909200@kczahrada.cz
SUMMARY:Kino: Borromini a Bernini – výzva k dokonalosti
DESCRIPTION:Dokument Borromini a Bernini – výzva k dokonalosti zachycuje příběh nejslavnějšího uměleckého soupeření všech dob\, rivalitu mezi Borrominim a Berninim\, ale také příběh Borrominiho soupeření se sebou samým. Sledujeme příběh architektonické revoluce osamělého mistra\, který navždy změnil podobu Říma tím\, že se vydal na hranici svých možností. Bojoval s konvencemi a předsudky. S pokorou se učil z minulosti\, aby mohl vystavět budoucnost. Ve filmu jsou zachycena slavná římská místa jako Palazzo Barberini\, Berniniho baldachýn v Bazilice svatého Petra\, kostely San Carlo alle Quattro Fontane\, Sant’Andrea al Quirinale\, Bazilika svatého Jana Lateránského\, Fontána čtyř řek na náměstí Piazza Navona\, Svatopetrské náměstí či Hadriánova vila.\n102 min | Itálie | 2022 | Dokument | Přístupný \n  \n\n  \n  \n
URL:https://kczahrada.cz/udalost/borromini-a-bernini-vyzva-k-dokonalosti/
CATEGORIES:Kino
ATTACH;FMTTYPE=image/jpeg:https://kczahrada.cz/wp-content/uploads/2023/10/BorrominiaBernini.jpg
END:VEVENT
END:VCALENDAR