BEGIN:VCALENDAR
VERSION:2.0
PRODID:-//KC Zahrada - ECPv4.7.3//NONSGML v1.0//EN
CALSCALE:GREGORIAN
METHOD:PUBLISH
X-WR-CALNAME:KC Zahrada
X-ORIGINAL-URL:https://kczahrada.cz
X-WR-CALDESC:Events for KC Zahrada
BEGIN:VEVENT
DTSTART;TZID=Europe/Prague:20190323T150000
DTEND;TZID=Europe/Prague:20190323T160000
DTSTAMP:20260420T213907
CREATED:20190226T104313Z
LAST-MODIFIED:20190226T121539Z
UID:1154-1553353200-1553356800@kczahrada.cz
SUMMARY:Bojím se v lese
DESCRIPTION:Loutky bez hranic \n  \n\nZakopnout v  lese o Bludný kořen není žádná legrace\, ale malý veselý Kašpárek má pro strach uděláno. Kdo mu poradí\, jak z  lesa ven? Vodník\, Hejkal\, Rusalka nebo snad Bludička? Muzikálová\, tak trochu nebezpečná\, cesta do lesa\, ale snad se dostaneme zase zpět… \nDélka představení 45 minut. Pro děti od 3 let \n  \nVstupné 50 Kč \n  \n\n
URL:https://kczahrada.cz/udalost/bojim-se-v-lese/
LOCATION:Kulturní centrum Zahrada\, Malenická 1784\, Praha 4\, 14800
CATEGORIES:Dětem,Divadlo
ATTACH;FMTTYPE=image/jpeg:https://kczahrada.cz/wp-content/uploads/2019/02/Bojím-se-v-lese.jpg
END:VEVENT
END:VCALENDAR