BEGIN:VCALENDAR
VERSION:2.0
PRODID:-//KC Zahrada - ECPv4.7.3//NONSGML v1.0//EN
CALSCALE:GREGORIAN
METHOD:PUBLISH
X-WR-CALNAME:KC Zahrada
X-ORIGINAL-URL:https://kczahrada.cz
X-WR-CALDESC:Events for KC Zahrada
BEGIN:VEVENT
DTSTART;TZID=Europe/Prague:20190401T143000
DTEND;TZID=Europe/Prague:20190401T160000
DTSTAMP:20260420T201756
CREATED:20190226T121932Z
LAST-MODIFIED:20190313T073023Z
UID:1188-1554129000-1554134400@kczahrada.cz
SUMMARY:Big Band Pražského salonního orchestru: Velikání swingu
DESCRIPTION:Koncert swingového orchestru. Diriguje a zpívá Zdeněk Foit. Uvádí Václav Vomáčka. \nKoncert je určen pro všechny věkové kategorie. \nVstupné 50 Kč \n
URL:https://kczahrada.cz/udalost/big-band-prazskeho-salonniho-orchestru/
LOCATION:Kulturní centrum Zahrada\, Malenická 1784\, Praha 4\, 14800
CATEGORIES:Koncert,Senioři
ATTACH;FMTTYPE=image/jpeg:https://kczahrada.cz/wp-content/uploads/2019/02/Big-Band-PSO.jpg
END:VEVENT
END:VCALENDAR