BEGIN:VCALENDAR
VERSION:2.0
PRODID:-//KC Zahrada - ECPv4.7.3//NONSGML v1.0//EN
CALSCALE:GREGORIAN
METHOD:PUBLISH
X-WR-CALNAME:KC Zahrada
X-ORIGINAL-URL:https://kczahrada.cz
X-WR-CALDESC:Events for KC Zahrada
BEGIN:VEVENT
DTSTART;TZID=Europe/Prague:20200108T143000
DTEND;TZID=Europe/Prague:20200108T160000
DTSTAMP:20260420T185629
CREATED:20191128T132125Z
LAST-MODIFIED:20200104T095834Z
UID:3121-1578493800-1578499200@kczahrada.cz
SUMMARY:Benjamin a vlk
DESCRIPTION:Buchty a loutky \n“To\, na čem stojíš\, je můj palec\, chlapečku.” \nDobrodružný příběh malého chlapce\, který se svojí kouzelnou pomocnicí vykoná veliké věci. Přijďte se podívat\, jakou cestu bude muset vykonat Ben-jamín\, aby přemohl temného vlka. \nHrají: Zuzana Bruknerová\, Marek Bečka\, Radek Beran\, Vít Brukner \nVhodné pro děti od 3 let \n
URL:https://kczahrada.cz/udalost/benjamin-a-vlk/
LOCATION:Kulturní centrum Zahrada\, Malenická 1784\, Praha 4\, 14800
CATEGORIES:Dětem,Divadlo
ATTACH;FMTTYPE=image/jpeg:https://kczahrada.cz/wp-content/uploads/2019/11/Benjamin-a-vlk.jpg
END:VEVENT
END:VCALENDAR