BEGIN:VCALENDAR
VERSION:2.0
PRODID:-//KC Zahrada - ECPv4.7.3//NONSGML v1.0//EN
CALSCALE:GREGORIAN
METHOD:PUBLISH
X-WR-CALNAME:KC Zahrada
X-ORIGINAL-URL:https://kczahrada.cz
X-WR-CALDESC:Events for KC Zahrada
BEGIN:VEVENT
DTSTART;TZID=Europe/Prague:20231216T190000
DTEND;TZID=Europe/Prague:20231216T190000
DTSTAMP:20260421T114049
CREATED:20231123T064645Z
LAST-MODIFIED:20231123T064645Z
UID:11636-1702753200-1702753200@kczahrada.cz
SUMMARY:Adventní čarování
DESCRIPTION:Jak se prožíval advent v malé horské vesničce před padesáti lety? A jaké tradice se pojily s časem vánočním? To vše se dozvíte z vyprávění Milana Doležala\, který se studiu lidových zvyků\, legend a mýtů věnuje přes dvacet let. \n
URL:https://kczahrada.cz/udalost/adventni-carovani/
LOCATION:Kulturní centrum Zahrada\, Malenická 1784\, Praha 4\, 14800
CATEGORIES:AKCE
ATTACH;FMTTYPE=image/jpeg:https://kczahrada.cz/wp-content/uploads/2023/11/Dolezal535.jpg
ORGANIZER;CN="KC%20zahrada":MAILTO:info@kczahrada.cz
END:VEVENT
END:VCALENDAR