BEGIN:VCALENDAR
VERSION:2.0
PRODID:-//KC Zahrada - ECPv4.7.3//NONSGML v1.0//EN
CALSCALE:GREGORIAN
METHOD:PUBLISH
X-WR-CALNAME:KC Zahrada
X-ORIGINAL-URL:https://kczahrada.cz
X-WR-CALDESC:Events for KC Zahrada
BEGIN:VEVENT
DTSTART;TZID=Europe/Prague:20240311T190000
DTEND;TZID=Europe/Prague:20240311T193000
DTSTAMP:20260426T035723
CREATED:20240212T114920Z
LAST-MODIFIED:20240213T104604Z
UID:11876-1710183600-1710185400@kczahrada.cz
SUMMARY:A máme\, co jsme chtěli 
DESCRIPTION:Poslední den společného Československa se na silvestrovský večírek schází jedna velká federální rodina. Setkají se ještě jako bratři\, rozejdou se už jako cizinci. S každou další borovičkou se zvyšuje šance\, že někdo něco někomu řekne a že se něco stane… Budete nám scházet\, Slováci.  \nHrají: Eva Holubová\, Bolek Polívka\, Anna Šišková\, Ady Hajdu\, Jana Kovalčíková\, Jan Budař\, Judit Pecháček\, Daniel Fischer\, Dávid Hartl\, Juraj Loj a další.  \n100 min | Slovensko\, Kanada | 2023 | Rodinný\, Drama\, Komedie | Nevhodné do 12 let  \nVstupné 140\,-Kč  \n
URL:https://kczahrada.cz/udalost/a-mame-co-jsme-chteli/
LOCATION:Kulturní centrum Zahrada\, Malenická 1784\, Praha 4\, 14800
CATEGORIES:Kino
ATTACH;FMTTYPE=image/jpeg:https://kczahrada.cz/wp-content/uploads/2024/02/KINOAmamecojsmechteli.jpg
ORGANIZER;CN="KC%20zahrada":MAILTO:info@kczahrada.cz
END:VEVENT
END:VCALENDAR