BEGIN:VCALENDAR
VERSION:2.0
PRODID:-//KC Zahrada - ECPv4.7.3//NONSGML v1.0//EN
CALSCALE:GREGORIAN
METHOD:PUBLISH
X-WR-CALNAME:KC Zahrada
X-ORIGINAL-URL:https://kczahrada.cz
X-WR-CALDESC:Events for KC Zahrada
BEGIN:VEVENT
DTSTART;TZID=Europe/Prague:20241211T190000
DTEND;TZID=Europe/Prague:20241211T203000
DTSTAMP:20260423T135737
CREATED:20241022T114955Z
LAST-MODIFIED:20241129T063759Z
UID:12607-1733943600-1733949000@kczahrada.cz
SUMMARY:ROK VDOVY
DESCRIPTION:ROK VDOVY \nFilm Rok vdovy vypráví příběh o odvaze\, naději a síle začít znovu po smrti životního partnera. Scénář vznikl volně podle deníků Zuzany Pokorné\, které na pokračování a s velkým čtenářským ohlasem publikoval týdeník Respekt. V titulní roli exceluje herečka Pavla Beretová. \n109 min | Česko\, Slovensko\, Chorvatsko | 2024 | Drama | Nevhodné do 12 let \nVstupné 140\,-Kč \n
URL:https://kczahrada.cz/udalost/12607/
LOCATION:Kulturní centrum Zahrada\, Malenická 1784\, Praha 4\, 14800
CATEGORIES:Kino
ATTACH;FMTTYPE=image/jpeg:https://kczahrada.cz/wp-content/uploads/2024/10/Rok-vdovy.jpg
ORGANIZER;CN="KC%20zahrada":MAILTO:info@kczahrada.cz
END:VEVENT
END:VCALENDAR